BEGIN:VCALENDAR
VERSION:2.0
CALSCALE:GREGORIAN
PRODID:adamgibbons/ics
METHOD:PUBLISH
X-PUBLISHED-TTL:PT1H
BEGIN:VEVENT
UID:529@fahrradtermine-berlin.de
SUMMARY:Kiddical Mass Treptow-Köpenick
DTSTAMP:20260421T005950Z
DTSTART:20260510T130000Z
DTEND:20260510T143000Z
DESCRIPTION:Vom S-Bahnhof Adlershof um 15:00 Uhr. Details folgen.
URL:https://fahrradtermine-berlin.de/event/kiddical-mass-treptow-kopenick
LOCATION:S Adlershof - Adlergestell 134\, 12489 Berlin
STATUS:CONFIRMED
CATEGORIES:Fahrraddemo,Kiddical Mass,Kids,Treptow-Köpenick
X-ALT-DESC;FMTTYPE=text/html:<p>Vom S-Bahnhof Adlershof um 15:00 Uhr. Detai
	ls folgen.</p>
BEGIN:VALARM
ACTION:DISPLAY
DESCRIPTION:Kiddical Mass Treptow-Köpenick
TRIGGER:-PT1H
END:VALARM
END:VEVENT
END:VCALENDAR
