BEGIN:VCALENDAR
VERSION:2.0
CALSCALE:GREGORIAN
PRODID:adamgibbons/ics
METHOD:PUBLISH
X-PUBLISHED-TTL:PT1H
BEGIN:VEVENT
UID:540@fahrradtermine-berlin.de
SUMMARY:Netzwerktreffen Fahrradfreundliches ChaWi
DTSTAMP:20260422T234624Z
DTSTART:20260520T170000Z
DTEND:20260520T183000Z
DESCRIPTION:Dieser Termin findet online statt. Einwahldaten können per E-Ma
	il an\ninfo@rad-chawi.de abgefragt werden. Weitere Infos\, aber auch Änder
	ungen des\nTermins werden auf https://www.rad-chawi.de/ [https://www.rad-c
	hawi.de/]\nbekanntgegeben.\n\n
URL:https://fahrradtermine-berlin.de/event/netzwerktreffen-fahrradfreundlic
	hes-chawi-11
LOCATION:online - https://www.rad-chawi.de/
STATUS:CONFIRMED
CATEGORIES:Changing Cities,Charlottenburg-Wilmersdorf,Stadtteilgruppe
X-ALT-DESC;FMTTYPE=text/html:<p>Dieser Termin findet online statt. Einwahld
	aten können per E-Mail an info@rad-chawi.de abgefragt werden. Weitere Info
	s, aber auch Änderungen des Termins werden auf <a target="_blank" href="ht
	tps://www.rad-chawi.de/">https://www.rad-chawi.de/</a> bekanntgegeben.</p>
	<p></p>
BEGIN:VALARM
ACTION:DISPLAY
DESCRIPTION:Netzwerktreffen Fahrradfreundliches ChaWi
TRIGGER:-PT1H
END:VALARM
END:VEVENT
END:VCALENDAR
