BEGIN:VCALENDAR
VERSION:2.0
CALSCALE:GREGORIAN
PRODID:adamgibbons/ics
METHOD:PUBLISH
X-PUBLISHED-TTL:PT1H
BEGIN:VEVENT
UID:467@fahrradtermine-berlin.de
SUMMARY:Netzwerktreffen Netzwerk Fahrradfreundliches Tempelhof-Schöneberg (
	NFTS)
DTSTAMP:20260424T014633Z
DTSTART:20260513T170000Z
DTEND:20260513T190000Z
URL:https://fahrradtermine-berlin.de/event/netzwerktreffen-netzwerk-fahrrad
	freundliches-tempelhof-schoneberg-nfts-21
GEO:52.475;13.3597
LOCATION:Jugendverkehrsschule Schöneberg (Eingang Vorarlberger Damm) - 25\,
	 Sachsendamm\, Schöneberg\, Tempelhof-Schöneberg\, Berlin\, 10829\, Deutsc
	hland
STATUS:CONFIRMED
CATEGORIES:Changing Cities,Netzwerk/Stadtteilgrupppentreffen,Tempelhof-Schö
	neberg
END:VEVENT
BEGIN:VEVENT
UID:541@fahrradtermine-berlin.de
SUMMARY:Netzwerktreffen Netzwerk Fahrradfreundliches Tempelhof-Schöneberg (
	NFTS)
DTSTAMP:20260424T014633Z
DTSTART:20260527T170000Z
DTEND:20260527T190000Z
URL:https://fahrradtermine-berlin.de/event/netzwerktreffen-netzwerk-fahrrad
	freundliches-tempelhof-schoneberg-nfts-22
GEO:52.475;13.3597
LOCATION:Jugendverkehrsschule Schöneberg (Eingang Vorarlberger Damm) - 25\,
	 Sachsendamm\, Schöneberg\, Tempelhof-Schöneberg\, Berlin\, 10829\, Deutsc
	hland
STATUS:CONFIRMED
CATEGORIES:Changing Cities,Netzwerk/Stadtteilgrupppentreffen,Tempelhof-Schö
	neberg
END:VEVENT
END:VCALENDAR
