BEGIN:VCALENDAR
VERSION:2.0
CALSCALE:GREGORIAN
PRODID:adamgibbons/ics
METHOD:PUBLISH
X-PUBLISHED-TTL:PT1H
BEGIN:VEVENT
UID:522@fahrradtermine-berlin.de
SUMMARY:Fahrraddemo für Radwege in Weißensee
DTSTAMP:20260419T223652Z
DTSTART:20260509T090000Z
DTEND:20260509T110000Z
URL:https://fahrradtermine-berlin.de/event/fahrraddemo-fur-radwege-in-weiss
	ensee
LOCATION:Antonplatz - Antonplatz\, 13088 Berlin
STATUS:CONFIRMED
CATEGORIES:Fahrraddemo
END:VEVENT
END:VCALENDAR
