BEGIN:VCALENDAR
VERSION:2.0
CALSCALE:GREGORIAN
PRODID:adamgibbons/ics
METHOD:PUBLISH
X-PUBLISHED-TTL:PT1H
BEGIN:VEVENT
UID:539@fahrradtermine-berlin.de
SUMMARY:Kidical Mass Steglitz
DTSTAMP:20260424T002805Z
DTSTART:20260509T110000Z
DTEND:20260509T150000Z
URL:https://fahrradtermine-berlin.de/event/kidical-mass-steglitz
GEO:52.4569;13.3214
LOCATION:Hermann-Ehlers-Platz - berlin\, Albrechtstraße 1-3
STATUS:CONFIRMED
CATEGORIES:
END:VEVENT
END:VCALENDAR
