BEGIN:VCALENDAR
VERSION:2.0
CALSCALE:GREGORIAN
PRODID:adamgibbons/ics
METHOD:PUBLISH
X-PUBLISHED-TTL:PT1H
BEGIN:VEVENT
UID:451@fahrradtermine-berlin.de
SUMMARY:Critical Mass Berlin
DTSTAMP:20260424T003315Z
DTSTART:20260424T180000Z
DTEND:20260424T215500Z
URL:https://fahrradtermine-berlin.de/event/critical-mass-berlin-10
GEO:52.5021;13.4243
LOCATION:Feuerwehrbrunnen am Mariannenplatz (Kreuzberg) - Waldemarstraße\, 
	Luisenstadt\, Kreuzberg\, Friedrichshain-Kreuzberg\, Berlin\, 10997\, Deut
	schland
STATUS:CONFIRMED
CATEGORIES:Critical Mass,Friedrichshain,Kreuzberg,Mitte,Verbandfahrt gemäß 
	StVO § 27,WirFahrenZusammen
END:VEVENT
BEGIN:VEVENT
UID:424@fahrradtermine-berlin.de
SUMMARY:Purple Ride
DTSTAMP:20260424T003315Z
DTSTART:20270307T230000Z
DTEND:20270308T143000Z
URL:https://fahrradtermine-berlin.de/event/purple-ride-2
GEO:52.5021;13.4243
LOCATION:Feuerwehrbrunnen am Mariannenplatz (Kreuzberg) - Waldemarstraße\, 
	Luisenstadt\, Kreuzberg\, Friedrichshain-Kreuzberg\, Berlin\, 10997\, Deut
	schland
STATUS:CONFIRMED
CATEGORIES:Demo,Fahrraddemo,queer
END:VEVENT
END:VCALENDAR
