BEGIN:VCALENDAR
VERSION:2.0
CALSCALE:GREGORIAN
PRODID:adamgibbons/ics
METHOD:PUBLISH
X-PUBLISHED-TTL:PT1H
BEGIN:VEVENT
UID:464@fahrradtermine-berlin.de
SUMMARY:Kidical Mass Tempelhof
DTSTAMP:20260424T001728Z
DTSTART:20260509T090000Z
DTEND:20260509T110000Z
URL:https://fahrradtermine-berlin.de/event/kidical-mass-tempelhof-1
LOCATION:Rathaus Tempelhof - Rathaus Tempelhof
STATUS:CONFIRMED
CATEGORIES:
END:VEVENT
END:VCALENDAR
