BEGIN:VCALENDAR
VERSION:2.0
CALSCALE:GREGORIAN
PRODID:adamgibbons/ics
METHOD:PUBLISH
X-PUBLISHED-TTL:PT1H
BEGIN:VEVENT
UID:485@fahrradtermine-berlin.de
SUMMARY:Fahrrad-Demo in der Ollenhauerstraße (Reinickendorf)
DTSTAMP:20260421T021527Z
DTSTART:20260421T160000Z
DTEND:20260421T173000Z
URL:https://fahrradtermine-berlin.de/event/fahrrad-demo-in-der-ollenhauerst
	rasse-reinickendorf
LOCATION:Ollenhauerstraße - Ollenhauerstraße 97\, 13403 Berlin
STATUS:CONFIRMED
CATEGORIES:ADFC,Changing Cities,Fahrrad-Demo,Netzwerk fahrradfreundliches R
	einickendorf
END:VEVENT
BEGIN:VEVENT
UID:475@fahrradtermine-berlin.de
SUMMARY:Treffen der ADFC-Stadtteilgruppe Schöneberg
DTSTAMP:20260421T021527Z
DTSTART:20260504T170000Z
DTEND:20260504T190000Z
URL:https://fahrradtermine-berlin.de/event/treffen-der-adfc-stadtteilgruppe
	-schoneberg-10
GEO:52.4834;13.3465
LOCATION:Raum für Beteiligung Tempelhof-Schöneberg - 10823 Berlin\, Dominic
	usstraße 11
STATUS:CONFIRMED
CATEGORIES:ADFC,Netzwerk/Stadtteilgrupppentreffen,Schöneberg,Stadtteilgrupp
	e
END:VEVENT
BEGIN:VEVENT
UID:487@fahrradtermine-berlin.de
SUMMARY:ADFC CityWest Stadtteilgruppe Charlottenburg-Wilmersdorf
DTSTAMP:20260421T021527Z
DTSTART:20260504T174500Z
DTEND:20260504T200000Z
URL:https://fahrradtermine-berlin.de/event/adfc-citywest-stadtteilgruppe-ch
	arlottenburg-wilmersdorf-18
GEO:52.4841;13.3222
LOCATION:Sportcasino Wilma (meistens hybrid\, d.h. die online-Teilnahme ist
	 möglich) - Straße am Schoelerpark 39\, 10715 Berlin
STATUS:CONFIRMED
CATEGORIES:ADFC,Charlottenburg-Wilmersdorf,Stadtteilgruppe
END:VEVENT
BEGIN:VEVENT
UID:458@fahrradtermine-berlin.de
SUMMARY:Treffen der Stadtteilgruppe Lichtenberg des ADFC
DTSTAMP:20260421T021527Z
DTSTART:20260507T170000Z
DTEND:20260507T190000Z
URL:https://fahrradtermine-berlin.de/event/treffen-der-stadtteilgruppe-lich
	tenberg-des-adfc-10
GEO:52.5362;13.5015
LOCATION:Interkultureller Garten - Liebenwalder Straße 12\, Alt-Hohenschönh
	ausen\, Lichtenberg\, Berlin\, 13055\, Deutschland
STATUS:CONFIRMED
CATEGORIES:ADFC,Lichtenberg,Netzwerk/Stadtteilgrupppentreffen,Stadtteilgrup
	pe
END:VEVENT
BEGIN:VEVENT
UID:459@fahrradtermine-berlin.de
SUMMARY:ADFC Stadtteilgruppe Tempelhof
DTSTAMP:20260421T021527Z
DTSTART:20260507T173000Z
DTEND:20260507T193000Z
URL:https://fahrradtermine-berlin.de/event/adfc-stadtteilgruppe-tempelhof-1
	0
GEO:52.4541;13.3822
LOCATION:Nachbarschaftszentrum der Ufa Fabrik - Viktoriastraße 10-18\, 1201
	5 Berlin
STATUS:CONFIRMED
CATEGORIES:ADFC,Stadtteilgruppe,Tempelhof
END:VEVENT
BEGIN:VEVENT
UID:472@fahrradtermine-berlin.de
SUMMARY:Kidical Mass Charlottenburg Wilmersdorf
DTSTAMP:20260421T021527Z
DTSTART:20260509T080000Z
DTEND:20260509T100000Z
URL:https://fahrradtermine-berlin.de/event/kidical-mass-charlottenburg-wilm
	ersdorf
LOCATION:Steubenplatz - Steubenplatz\, 14050 Berlin
STATUS:CONFIRMED
CATEGORIES:ADFC,Changing Cities,Charlottenburg-Wilmersdorf,Fahrraddemo,Kidi
	cal Mass,Kids
END:VEVENT
BEGIN:VEVENT
UID:468@fahrradtermine-berlin.de
SUMMARY:Kidical Mass Neukölln – Süd-Route 🐔
DTSTAMP:20260421T021527Z
DTSTART:20260509T120000Z
DTEND:20260509T151500Z
URL:https://fahrradtermine-berlin.de/event/kidical-mass-neukolln-sud-route
GEO:52.4371;13.4477
LOCATION:U-Bhf Britz Süd - U Bahnhof Britz Süd
STATUS:CONFIRMED
CATEGORIES:ADFC,Changing Cities,Fahrraddemo,Kidical Mass,Kids,Netzwerk Fahr
	radfreundliches Neukölln,Neukölln
END:VEVENT
BEGIN:VEVENT
UID:469@fahrradtermine-berlin.de
SUMMARY:Kidical Mass Neukölln – Nord-Route 🐔
DTSTAMP:20260421T021527Z
DTSTART:20260509T120000Z
DTEND:20260509T151500Z
URL:https://fahrradtermine-berlin.de/event/kidical-mass-neukolln-nord-route
GEO:52.4804;13.4162
LOCATION:Columbia Bad - Dudenstraße\, Chamissokiez\, Kreuzberg\, Friedrichs
	hain-Kreuzberg\, Berlin\, 10965\, Deutschland
STATUS:CONFIRMED
CATEGORIES:ADFC,Changing Cities,Fahrraddemo,Kidical Mass,Kids,Netzwerk Fahr
	radfreundliches Neukölln,Neukölln
END:VEVENT
BEGIN:VEVENT
UID:480@fahrradtermine-berlin.de
SUMMARY:Offenes ADFC-Treffen für Austausch\, Absprachen und Vernetzung Stad
	tteilgruppe Treptow-Köpenick
DTSTAMP:20260421T021527Z
DTSTART:20260512T170000Z
DTEND:20260512T190000Z
URL:https://fahrradtermine-berlin.de/event/offenes-adfc-treffen-fur-austaus
	ch-absprachen-und-vernetzung-stadtteilgruppe-treptow-kopenick-3
GEO:52.4435;13.5023
LOCATION:Rathaus Johannisthal - Sterndamm 102\, 12487 Berlin
STATUS:CONFIRMED
CATEGORIES:Absprachen,ADFC,Austausch,Stadtteilgruppe,Treptow-Köpenick,Verne
	tzung
END:VEVENT
BEGIN:VEVENT
UID:465@fahrradtermine-berlin.de
SUMMARY:Treffen der ADFC-Stadtteilgruppe Pankow
DTSTAMP:20260421T021527Z
DTSTART:20260513T170000Z
DTEND:20260513T193000Z
URL:https://fahrradtermine-berlin.de/event/treffen-der-adfc-stadtteilgruppe
	-pankow-1
GEO:52.5699;13.3996
LOCATION:STZ Pankow - Schönholzer Straße 10
STATUS:CONFIRMED
CATEGORIES:ADFC,Stadtteilgruppe
END:VEVENT
BEGIN:VEVENT
UID:525@fahrradtermine-berlin.de
SUMMARY:ADFC CityWest Stadtteilgruppe Charlottenburg-Wilmersdorf
DTSTAMP:20260421T021527Z
DTSTART:20260518T174500Z
DTEND:20260518T200000Z
URL:https://fahrradtermine-berlin.de/event/adfc-citywest-stadtteilgruppe-ch
	arlottenburg-wilmersdorf-53
GEO:52.5157;13.2944
LOCATION:Kiezbüro Seelingstr. 14 - 14\, Seelingstraße\, Danckelmannkiez\, C
	harlottenburg\, Charlottenburg-Wilmersdorf\, Berlin\, 14059\, Deutschland
STATUS:CONFIRMED
CATEGORIES:ADFC,Charlottenburg-Wilmersdorf,Stadtteilgruppe
END:VEVENT
BEGIN:VEVENT
UID:527@fahrradtermine-berlin.de
SUMMARY:ADFC CityWest Stadtteilgruppe Charlottenburg-Wilmersdorf
DTSTAMP:20260421T021527Z
DTSTART:20260518T174500Z
DTEND:20260518T200000Z
URL:https://fahrradtermine-berlin.de/event/adfc-citywest-stadtteilgruppe-ch
	arlottenburg-wilmersdorf-55
GEO:52.4841;13.3222
LOCATION:Sportcasino Wilma (meistens hybrid\, d.h. die online-Teilnahme ist
	 möglich) - Straße am Schoelerpark 39\, 10715 Berlin
STATUS:CONFIRMED
CATEGORIES:ADFC,Charlottenburg-Wilmersdorf,Stadtteilgruppe
END:VEVENT
BEGIN:VEVENT
UID:528@fahrradtermine-berlin.de
SUMMARY:50. ADFC-Sternfahrt Berlin
DTSTAMP:20260421T021527Z
DTSTART:20260606T220000Z
DTEND:20260607T140000Z
URL:https://fahrradtermine-berlin.de/event/50-adfc-sternfahrt-berlin
GEO:52.5145;13.3503
LOCATION:Berlin Umland und stadtweit und Zubringerfahrten - Berlin\, Deutsc
	hland
STATUS:CONFIRMED
CATEGORIES:ADFC,Fahrraddemo,Grossevent,Sternfahrt
END:VEVENT
BEGIN:VEVENT
UID:369@fahrradtermine-berlin.de
SUMMARY:SENIOR MASS
DTSTAMP:20260421T021527Z
DTSTART:20260620T110000Z
DTEND:20260620T130000Z
URL:https://fahrradtermine-berlin.de/event/save-the-date-senior-mass
LOCATION:Berlin - Berlin
STATUS:CONFIRMED
CATEGORIES:ADFC,Changing Cities,Fahrraddemo,familienfreundlich,fLotte,Netzw
	erk fahrradfreundliches Tempelhof-Schöneberg,NFTS,Senior Mass,Senior*innen
	,Stiftung Berliner Leben,Tempelhof-Schöneberg
END:VEVENT
END:VCALENDAR
