BEGIN:VCALENDAR
VERSION:2.0
CALSCALE:GREGORIAN
PRODID:adamgibbons/ics
METHOD:PUBLISH
X-PUBLISHED-TTL:PT1H
BEGIN:VEVENT
UID:441@fahrradtermine-berlin.de
SUMMARY:Netzwerktreffen Fahrradfreundliches ChaWi
DTSTAMP:20260421T022120Z
DTSTART:20260422T170000Z
DTEND:20260422T183000Z
URL:https://fahrradtermine-berlin.de/event/netzwerktreffen-fahrradfreundlic
	hes-chawi-10
LOCATION:online - https://www.rad-chawi.de/
STATUS:CONFIRMED
CATEGORIES:Changing Cities,Charlottenburg-Wilmersdorf,Stadtteilgruppe
END:VEVENT
BEGIN:VEVENT
UID:487@fahrradtermine-berlin.de
SUMMARY:ADFC CityWest Stadtteilgruppe Charlottenburg-Wilmersdorf
DTSTAMP:20260421T022120Z
DTSTART:20260504T174500Z
DTEND:20260504T200000Z
URL:https://fahrradtermine-berlin.de/event/adfc-citywest-stadtteilgruppe-ch
	arlottenburg-wilmersdorf-18
GEO:52.4841;13.3222
LOCATION:Sportcasino Wilma (meistens hybrid\, d.h. die online-Teilnahme ist
	 möglich) - Straße am Schoelerpark 39\, 10715 Berlin
STATUS:CONFIRMED
CATEGORIES:ADFC,Charlottenburg-Wilmersdorf,Stadtteilgruppe
END:VEVENT
BEGIN:VEVENT
UID:472@fahrradtermine-berlin.de
SUMMARY:Kidical Mass Charlottenburg Wilmersdorf
DTSTAMP:20260421T022120Z
DTSTART:20260509T080000Z
DTEND:20260509T100000Z
URL:https://fahrradtermine-berlin.de/event/kidical-mass-charlottenburg-wilm
	ersdorf
LOCATION:Steubenplatz - Steubenplatz\, 14050 Berlin
STATUS:CONFIRMED
CATEGORIES:ADFC,Changing Cities,Charlottenburg-Wilmersdorf,Fahrraddemo,Kidi
	cal Mass,Kids
END:VEVENT
BEGIN:VEVENT
UID:525@fahrradtermine-berlin.de
SUMMARY:ADFC CityWest Stadtteilgruppe Charlottenburg-Wilmersdorf
DTSTAMP:20260421T022120Z
DTSTART:20260518T174500Z
DTEND:20260518T200000Z
URL:https://fahrradtermine-berlin.de/event/adfc-citywest-stadtteilgruppe-ch
	arlottenburg-wilmersdorf-53
GEO:52.5157;13.2944
LOCATION:Kiezbüro Seelingstr. 14 - 14\, Seelingstraße\, Danckelmannkiez\, C
	harlottenburg\, Charlottenburg-Wilmersdorf\, Berlin\, 14059\, Deutschland
STATUS:CONFIRMED
CATEGORIES:ADFC,Charlottenburg-Wilmersdorf,Stadtteilgruppe
END:VEVENT
BEGIN:VEVENT
UID:527@fahrradtermine-berlin.de
SUMMARY:ADFC CityWest Stadtteilgruppe Charlottenburg-Wilmersdorf
DTSTAMP:20260421T022120Z
DTSTART:20260518T174500Z
DTEND:20260518T200000Z
URL:https://fahrradtermine-berlin.de/event/adfc-citywest-stadtteilgruppe-ch
	arlottenburg-wilmersdorf-55
GEO:52.4841;13.3222
LOCATION:Sportcasino Wilma (meistens hybrid\, d.h. die online-Teilnahme ist
	 möglich) - Straße am Schoelerpark 39\, 10715 Berlin
STATUS:CONFIRMED
CATEGORIES:ADFC,Charlottenburg-Wilmersdorf,Stadtteilgruppe
END:VEVENT
END:VCALENDAR
