BEGIN:VCALENDAR
VERSION:2.0
CALSCALE:GREGORIAN
PRODID:adamgibbons/ics
METHOD:PUBLISH
X-PUBLISHED-TTL:PT1H
BEGIN:VEVENT
UID:479@fahrradtermine-berlin.de
SUMMARY:Fahrradrave BIKE THE PLANET
DTSTAMP:20260421T022246Z
DTSTART:20260422T150000Z
DTEND:20260422T180000Z
URL:https://fahrradtermine-berlin.de/event/fahrradrave-bike-the-planet
GEO:52.3774;13.0941
LOCATION:Potsdam - Schlaatz - 20\, Schilfhof\, Schlaatz\, Potsdam\, Branden
	burg\, 14478\, Deutschland
STATUS:CONFIRMED
CATEGORIES:Bike The Planet,Fahrraddemo,Fahrradrave
END:VEVENT
BEGIN:VEVENT
UID:460@fahrradtermine-berlin.de
SUMMARY:28. April 2026: 13. Demo für sicheren Verkehr auf der Marienfelder 
	Allee
DTSTAMP:20260421T022246Z
DTSTART:20260428T153000Z
DTEND:20260428T170000Z
URL:https://fahrradtermine-berlin.de/event/28-april-2026-13-demo-fur-sicher
	en-verkehr-auf-der-marienfelder-allee
GEO:52.4168;13.3667
LOCATION:Marienfelder Allee vor der Bibliothek Marienfelde - 12277 Berlin\,
	 Marienfelder Allee 107/109
STATUS:CONFIRMED
CATEGORIES:Fahrraddemo,Tempelhof-Schöneberg
END:VEVENT
BEGIN:VEVENT
UID:463@fahrradtermine-berlin.de
SUMMARY:Mygruni: mit Fahrrad und Inlinern in den Grunewald
DTSTAMP:20260421T022246Z
DTSTART:20260501T073000Z
DTEND:20260501T163000Z
URL:https://fahrradtermine-berlin.de/event/mygruni-mit-fahrrad-und-inlinern
	-in-den-grunewald
LOCATION:Falkplatz - 1\, Falkplatz\, Gleimviertel\, Prenzlauer Berg\, Panko
	w\, Berlin\, 10437\, Deutschland
STATUS:CONFIRMED
CATEGORIES:Demo,Demonstration,Fahrraddemo,Falkplatz,MyGruni,RespectCyclists
	,Sicherheit für Radfahrende
END:VEVENT
BEGIN:VEVENT
UID:313@fahrradtermine-berlin.de
SUMMARY:Respect Cyclists
DTSTAMP:20260421T022246Z
DTSTART:20260506T153000Z
DTEND:20260506T190000Z
URL:https://fahrradtermine-berlin.de/event/respect-cyclists-8
LOCATION:Falkplatz - 1\, Falkplatz\, Gleimviertel\, Prenzlauer Berg\, Panko
	w\, Berlin\, 10437\, Deutschland
STATUS:CONFIRMED
CATEGORIES:Demo,Fahrraddemo,RespectCyclists
END:VEVENT
BEGIN:VEVENT
UID:472@fahrradtermine-berlin.de
SUMMARY:Kidical Mass Charlottenburg Wilmersdorf
DTSTAMP:20260421T022246Z
DTSTART:20260509T080000Z
DTEND:20260509T100000Z
URL:https://fahrradtermine-berlin.de/event/kidical-mass-charlottenburg-wilm
	ersdorf
LOCATION:Steubenplatz - Steubenplatz\, 14050 Berlin
STATUS:CONFIRMED
CATEGORIES:ADFC,Changing Cities,Charlottenburg-Wilmersdorf,Fahrraddemo,Kidi
	cal Mass,Kids
END:VEVENT
BEGIN:VEVENT
UID:522@fahrradtermine-berlin.de
SUMMARY:Fahrraddemo für Radwege in Weißensee
DTSTAMP:20260421T022246Z
DTSTART:20260509T090000Z
DTEND:20260509T110000Z
URL:https://fahrradtermine-berlin.de/event/fahrraddemo-fur-radwege-in-weiss
	ensee
LOCATION:Antonplatz - Antonplatz\, 13088 Berlin
STATUS:CONFIRMED
CATEGORIES:Fahrraddemo
END:VEVENT
BEGIN:VEVENT
UID:468@fahrradtermine-berlin.de
SUMMARY:Kidical Mass Neukölln – Süd-Route 🐔
DTSTAMP:20260421T022246Z
DTSTART:20260509T120000Z
DTEND:20260509T151500Z
URL:https://fahrradtermine-berlin.de/event/kidical-mass-neukolln-sud-route
GEO:52.4371;13.4477
LOCATION:U-Bhf Britz Süd - U Bahnhof Britz Süd
STATUS:CONFIRMED
CATEGORIES:ADFC,Changing Cities,Fahrraddemo,Kidical Mass,Kids,Netzwerk Fahr
	radfreundliches Neukölln,Neukölln
END:VEVENT
BEGIN:VEVENT
UID:469@fahrradtermine-berlin.de
SUMMARY:Kidical Mass Neukölln – Nord-Route 🐔
DTSTAMP:20260421T022246Z
DTSTART:20260509T120000Z
DTEND:20260509T151500Z
URL:https://fahrradtermine-berlin.de/event/kidical-mass-neukolln-nord-route
GEO:52.4804;13.4162
LOCATION:Columbia Bad - Dudenstraße\, Chamissokiez\, Kreuzberg\, Friedrichs
	hain-Kreuzberg\, Berlin\, 10965\, Deutschland
STATUS:CONFIRMED
CATEGORIES:ADFC,Changing Cities,Fahrraddemo,Kidical Mass,Kids,Netzwerk Fahr
	radfreundliches Neukölln,Neukölln
END:VEVENT
BEGIN:VEVENT
UID:529@fahrradtermine-berlin.de
SUMMARY:Kiddical Mass Treptow-Köpenick
DTSTAMP:20260421T022246Z
DTSTART:20260510T130000Z
DTEND:20260510T143000Z
URL:https://fahrradtermine-berlin.de/event/kiddical-mass-treptow-kopenick
LOCATION:S Adlershof - Adlergestell 134\, 12489 Berlin
STATUS:CONFIRMED
CATEGORIES:Fahrraddemo,Kiddical Mass,Kids,Treptow-Köpenick
END:VEVENT
BEGIN:VEVENT
UID:314@fahrradtermine-berlin.de
SUMMARY:Respect Cyclists (Start in Schöneberg!)
DTSTAMP:20260421T022246Z
DTSTART:20260603T153000Z
DTEND:20260603T190000Z
URL:https://fahrradtermine-berlin.de/event/respect-cyclists-9
GEO:52.4849;13.3447
LOCATION:Rathaus Schöneberg - John-F.-Kennedy-Platz\, Akazienkiez\, Schöneb
	erg\, Tempelhof-Schöneberg\, Berlin\, 10825\, Deutschland
STATUS:CONFIRMED
CATEGORIES:Demo,Fahrraddemo,RespectCyclists
END:VEVENT
BEGIN:VEVENT
UID:528@fahrradtermine-berlin.de
SUMMARY:50. ADFC-Sternfahrt Berlin
DTSTAMP:20260421T022246Z
DTSTART:20260606T220000Z
DTEND:20260607T140000Z
URL:https://fahrradtermine-berlin.de/event/50-adfc-sternfahrt-berlin
GEO:52.5145;13.3503
LOCATION:Berlin Umland und stadtweit und Zubringerfahrten - Berlin\, Deutsc
	hland
STATUS:CONFIRMED
CATEGORIES:ADFC,Fahrraddemo,Grossevent,Sternfahrt
END:VEVENT
BEGIN:VEVENT
UID:435@fahrradtermine-berlin.de
SUMMARY:Rudi Wunderlich Gedenkfahrt 2026
DTSTAMP:20260421T022246Z
DTSTART:20260613T090000Z
DTEND:20260613T105000Z
URL:https://fahrradtermine-berlin.de/event/rudi-wunderlich-gedenkfahrt-2026
LOCATION:ehemaliges NS-Wirtschaftsverwaltungshauptamt - Unter den Eichen 13
	5 in 12203 Berlin-Lichterfelde
STATUS:CONFIRMED
CATEGORIES:Fahrraddemo
END:VEVENT
BEGIN:VEVENT
UID:369@fahrradtermine-berlin.de
SUMMARY:SENIOR MASS
DTSTAMP:20260421T022246Z
DTSTART:20260620T110000Z
DTEND:20260620T130000Z
URL:https://fahrradtermine-berlin.de/event/save-the-date-senior-mass
LOCATION:Berlin - Berlin
STATUS:CONFIRMED
CATEGORIES:ADFC,Changing Cities,Fahrraddemo,familienfreundlich,fLotte,Netzw
	erk fahrradfreundliches Tempelhof-Schöneberg,NFTS,Senior Mass,Senior*innen
	,Stiftung Berliner Leben,Tempelhof-Schöneberg
END:VEVENT
BEGIN:VEVENT
UID:315@fahrradtermine-berlin.de
SUMMARY:Respect Cyclists
DTSTAMP:20260421T022246Z
DTSTART:20260701T153000Z
DTEND:20260701T190000Z
URL:https://fahrradtermine-berlin.de/event/respect-cyclists-10
LOCATION:Falkplatz - 1\, Falkplatz\, Gleimviertel\, Prenzlauer Berg\, Panko
	w\, Berlin\, 10437\, Deutschland
STATUS:CONFIRMED
CATEGORIES:Demo,Fahrraddemo,RespectCyclists
END:VEVENT
BEGIN:VEVENT
UID:316@fahrradtermine-berlin.de
SUMMARY:Respect Cyclists
DTSTAMP:20260421T022246Z
DTSTART:20260805T153000Z
DTEND:20260805T190000Z
URL:https://fahrradtermine-berlin.de/event/respect-cyclists-11
LOCATION:Falkplatz - 1\, Falkplatz\, Gleimviertel\, Prenzlauer Berg\, Panko
	w\, Berlin\, 10437\, Deutschland
STATUS:CONFIRMED
CATEGORIES:Demo,Fahrraddemo,RespectCyclists
END:VEVENT
BEGIN:VEVENT
UID:317@fahrradtermine-berlin.de
SUMMARY:Respect Cyclists (Start in Schöneberg!)
DTSTAMP:20260421T022246Z
DTSTART:20260902T153000Z
DTEND:20260902T190000Z
URL:https://fahrradtermine-berlin.de/event/respect-cyclists-12
GEO:52.4849;13.3447
LOCATION:Rathaus Schöneberg - John-F.-Kennedy-Platz\, Akazienkiez\, Schöneb
	erg\, Tempelhof-Schöneberg\, Berlin\, 10825\, Deutschland
STATUS:CONFIRMED
CATEGORIES:Demo,Fahrraddemo,RespectCyclists
END:VEVENT
BEGIN:VEVENT
UID:318@fahrradtermine-berlin.de
SUMMARY:Respect Cyclists
DTSTAMP:20260421T022246Z
DTSTART:20261007T153000Z
DTEND:20261007T190000Z
URL:https://fahrradtermine-berlin.de/event/respect-cyclists-13
LOCATION:Falkplatz - 1\, Falkplatz\, Gleimviertel\, Prenzlauer Berg\, Panko
	w\, Berlin\, 10437\, Deutschland
STATUS:CONFIRMED
CATEGORIES:Demo,Fahrraddemo,RespectCyclists
END:VEVENT
BEGIN:VEVENT
UID:319@fahrradtermine-berlin.de
SUMMARY:Respect Cyclists
DTSTAMP:20260421T022246Z
DTSTART:20261104T163000Z
DTEND:20261104T200000Z
URL:https://fahrradtermine-berlin.de/event/respect-cyclists-14
LOCATION:Falkplatz - 1\, Falkplatz\, Gleimviertel\, Prenzlauer Berg\, Panko
	w\, Berlin\, 10437\, Deutschland
STATUS:CONFIRMED
CATEGORIES:Demo,Fahrraddemo,RespectCyclists
END:VEVENT
BEGIN:VEVENT
UID:320@fahrradtermine-berlin.de
SUMMARY:Respect Cyclists
DTSTAMP:20260421T022246Z
DTSTART:20261202T163000Z
DTEND:20261202T200000Z
URL:https://fahrradtermine-berlin.de/event/respect-cyclists-15
LOCATION:Falkplatz - 1\, Falkplatz\, Gleimviertel\, Prenzlauer Berg\, Panko
	w\, Berlin\, 10437\, Deutschland
STATUS:CONFIRMED
CATEGORIES:Demo,Fahrraddemo,RespectCyclists
END:VEVENT
BEGIN:VEVENT
UID:424@fahrradtermine-berlin.de
SUMMARY:Purple Ride
DTSTAMP:20260421T022246Z
DTSTART:20270307T230000Z
DTEND:20270308T143000Z
URL:https://fahrradtermine-berlin.de/event/purple-ride-2
GEO:52.5021;13.4243
LOCATION:Feuerwehrbrunnen am Mariannenplatz (Kreuzberg) - Waldemarstraße\, 
	Luisenstadt\, Kreuzberg\, Friedrichshain-Kreuzberg\, Berlin\, 10997\, Deut
	schland
STATUS:CONFIRMED
CATEGORIES:Demo,Fahrraddemo,queer
END:VEVENT
END:VCALENDAR
