BEGIN:VCALENDAR
VERSION:2.0
CALSCALE:GREGORIAN
PRODID:adamgibbons/ics
METHOD:PUBLISH
X-PUBLISHED-TTL:PT1H
BEGIN:VEVENT
UID:57@fahrradtermine-berlin.de
SUMMARY:#Marathonride2026
DTSTAMP:20260424T001849Z
DTSTART:20260927T035000Z
DTEND:20260927T063000Z
URL:https://fahrradtermine-berlin.de/event/marathonride-2026
GEO:52.5146;13.3485
LOCATION:Großer Stern\, Café Victoria - Café Victoria\, Großer Stern\, Tier
	garten\, Mitte\, Berlin\, 10557\, Deutschland
STATUS:CONFIRMED
CATEGORIES:Marathonride,Verbandfahrt gemäß StVO § 27,WirFahrenZusammen
END:VEVENT
END:VCALENDAR
