BEGIN:VCALENDAR
VERSION:2.0
CALSCALE:GREGORIAN
PRODID:adamgibbons/ics
METHOD:PUBLISH
X-PUBLISHED-TTL:PT1H
BEGIN:VEVENT
UID:477@fahrradtermine-berlin.de
SUMMARY:Liegerad-Treffen (auch für Interessierte)
DTSTAMP:20260424T001729Z
DTSTART:20260511T170000Z
DTEND:20260511T210000Z
URL:https://fahrradtermine-berlin.de/event/liegerad-treffen-auch-fur-intere
	ssierte-11
GEO:52.4753;13.3244
LOCATION:Yak & Yeti (Görresstraße) - Südwestkorso 69 A (Ecke Görresstraße 2
	9)\, 12161 Berlin
STATUS:CONFIRMED
CATEGORIES:Liegedreirad,Liegerad,Recumbent,RecumbentBike,RecumbentTrike,Reg
	el17,Velomobil,Velomobile
END:VEVENT
END:VCALENDAR
