BEGIN:VCALENDAR
VERSION:2.0
CALSCALE:GREGORIAN
PRODID:adamgibbons/ics
METHOD:PUBLISH
X-PUBLISHED-TTL:PT1H
BEGIN:VEVENT
UID:475@fahrradtermine-berlin.de
SUMMARY:Treffen der ADFC-Stadtteilgruppe Schöneberg
DTSTAMP:20260424T030514Z
DTSTART:20260504T170000Z
DTEND:20260504T190000Z
URL:https://fahrradtermine-berlin.de/event/treffen-der-adfc-stadtteilgruppe
	-schoneberg-10
GEO:52.4834;13.3465
LOCATION:Raum für Beteiligung Tempelhof-Schöneberg - 10823 Berlin\, Dominic
	usstraße 11
STATUS:CONFIRMED
CATEGORIES:ADFC,Netzwerk/Stadtteilgrupppentreffen,Schöneberg,Stadtteilgrupp
	e
END:VEVENT
END:VCALENDAR
