BEGIN:VCALENDAR
VERSION:2.0
CALSCALE:GREGORIAN
PRODID:adamgibbons/ics
METHOD:PUBLISH
X-PUBLISHED-TTL:PT1H
BEGIN:VEVENT
UID:460@fahrradtermine-berlin.de
SUMMARY:28. April 2026: 13. Demo für sicheren Verkehr auf der Marienfelder 
	Allee
DTSTAMP:20260424T003010Z
DTSTART:20260428T153000Z
DTEND:20260428T170000Z
URL:https://fahrradtermine-berlin.de/event/28-april-2026-13-demo-fur-sicher
	en-verkehr-auf-der-marienfelder-allee
GEO:52.4168;13.3667
LOCATION:Marienfelder Allee vor der Bibliothek Marienfelde - 12277 Berlin\,
	 Marienfelder Allee 107/109
STATUS:CONFIRMED
CATEGORIES:Fahrraddemo,Tempelhof-Schöneberg
END:VEVENT
BEGIN:VEVENT
UID:467@fahrradtermine-berlin.de
SUMMARY:Netzwerktreffen Netzwerk Fahrradfreundliches Tempelhof-Schöneberg (
	NFTS)
DTSTAMP:20260424T003010Z
DTSTART:20260513T170000Z
DTEND:20260513T190000Z
URL:https://fahrradtermine-berlin.de/event/netzwerktreffen-netzwerk-fahrrad
	freundliches-tempelhof-schoneberg-nfts-21
GEO:52.475;13.3597
LOCATION:Jugendverkehrsschule Schöneberg (Eingang Vorarlberger Damm) - 25\,
	 Sachsendamm\, Schöneberg\, Tempelhof-Schöneberg\, Berlin\, 10829\, Deutsc
	hland
STATUS:CONFIRMED
CATEGORIES:Changing Cities,Netzwerk/Stadtteilgrupppentreffen,Tempelhof-Schö
	neberg
END:VEVENT
BEGIN:VEVENT
UID:541@fahrradtermine-berlin.de
SUMMARY:Netzwerktreffen Netzwerk Fahrradfreundliches Tempelhof-Schöneberg (
	NFTS)
DTSTAMP:20260424T003010Z
DTSTART:20260527T170000Z
DTEND:20260527T190000Z
URL:https://fahrradtermine-berlin.de/event/netzwerktreffen-netzwerk-fahrrad
	freundliches-tempelhof-schoneberg-nfts-22
GEO:52.475;13.3597
LOCATION:Jugendverkehrsschule Schöneberg (Eingang Vorarlberger Damm) - 25\,
	 Sachsendamm\, Schöneberg\, Tempelhof-Schöneberg\, Berlin\, 10829\, Deutsc
	hland
STATUS:CONFIRMED
CATEGORIES:Changing Cities,Netzwerk/Stadtteilgrupppentreffen,Tempelhof-Schö
	neberg
END:VEVENT
BEGIN:VEVENT
UID:384@fahrradtermine-berlin.de
SUMMARY:4. Lichtenrader Radler- und Radlerinnenfest
DTSTAMP:20260424T003010Z
DTSTART:20260614T120000Z
DTEND:20260614T160000Z
URL:https://fahrradtermine-berlin.de/event/4-lichtenrader-radler-und-radler
	innenfest
LOCATION:Gemeindegarten Lichtenrade - Im Domstift 25-31\, 12309 Berlin
STATUS:CONFIRMED
CATEGORIES:Familie,familienfreundlich,Fest,Kids,Lichtenrade,Ökumenische Umw
	eltgruppe Lichtenrade,Social event,Tempelhof,Tempelhof-Schöneberg,Verkehrs
	politik,Verkehrswende
END:VEVENT
BEGIN:VEVENT
UID:369@fahrradtermine-berlin.de
SUMMARY:SENIOR MASS
DTSTAMP:20260424T003010Z
DTSTART:20260620T110000Z
DTEND:20260620T130000Z
URL:https://fahrradtermine-berlin.de/event/save-the-date-senior-mass
LOCATION:Berlin - Berlin
STATUS:CONFIRMED
CATEGORIES:ADFC,Changing Cities,Fahrraddemo,familienfreundlich,fLotte,Netzw
	erk fahrradfreundliches Tempelhof-Schöneberg,NFTS,Senior Mass,Senior*innen
	,Stiftung Berliner Leben,Tempelhof-Schöneberg
END:VEVENT
END:VCALENDAR
