BEGIN:VCALENDAR
VERSION:2.0
CALSCALE:GREGORIAN
PRODID:adamgibbons/ics
METHOD:PUBLISH
X-PUBLISHED-TTL:PT1H
BEGIN:VEVENT
UID:501@fahrradtermine-berlin.de
SUMMARY:BiciBus Bohnsdorf - mit dem Fahrradbus zur Schule
DTSTAMP:20260421T022201Z
DTSTART:20260423T051000Z
DTEND:20260423T053500Z
URL:https://fahrradtermine-berlin.de/event/bicibus-bohnsdorf-mit-dem-fahrra
	dbus-zur-schule-52
GEO:52.398;13.573
LOCATION:Bohnsdorf - Wohlauer Straße/Siebweg
STATUS:CONFIRMED
CATEGORIES:Bicibus,Fahrradbus,Kids,Treptow-Köpenick
END:VEVENT
BEGIN:VEVENT
UID:508@fahrradtermine-berlin.de
SUMMARY:BiciBus Bohnsdorf - mit dem Fahrradbus zur Schule
DTSTAMP:20260421T022201Z
DTSTART:20260424T052000Z
DTEND:20260424T053500Z
URL:https://fahrradtermine-berlin.de/event/bicibus-bohnsdorf-mit-dem-fahrra
	dbus-zur-schule-53
GEO:52.4068;13.5632
LOCATION:Bohnsdorf (Falkenberg) - Wilhelmine-Duncker-Straße\, Falkenberg\, 
	Bohnsdorf\, Treptow-Köpenick\, Berlin\, 12526\, Deutschland
STATUS:CONFIRMED
CATEGORIES:Bicibus,Fahrradbus,Kids,Schulwegsicherheit,Treptow-Köpenick
END:VEVENT
BEGIN:VEVENT
UID:457@fahrradtermine-berlin.de
SUMMARY:Selbsthilfe-Fahrradwerkstatt in Adlershof
DTSTAMP:20260421T022201Z
DTSTART:20260507T140000Z
DTEND:20260507T160000Z
URL:https://fahrradtermine-berlin.de/event/selbsthilfe-fahrradwerkstatt-in-
	adlershof-4
LOCATION:Kiezclub Alte Schule (Adlershof) - Dörpfeldstraße 54/56\, 12489 Be
	rlin
STATUS:CONFIRMED
CATEGORIES:Adlershof,Selbsthilfe Werkstatt,Treptow-Köpenick
END:VEVENT
BEGIN:VEVENT
UID:529@fahrradtermine-berlin.de
SUMMARY:Kiddical Mass Treptow-Köpenick
DTSTAMP:20260421T022201Z
DTSTART:20260510T130000Z
DTEND:20260510T143000Z
URL:https://fahrradtermine-berlin.de/event/kiddical-mass-treptow-kopenick
LOCATION:S Adlershof - Adlergestell 134\, 12489 Berlin
STATUS:CONFIRMED
CATEGORIES:Fahrraddemo,Kiddical Mass,Kids,Treptow-Köpenick
END:VEVENT
BEGIN:VEVENT
UID:480@fahrradtermine-berlin.de
SUMMARY:Offenes ADFC-Treffen für Austausch\, Absprachen und Vernetzung Stad
	tteilgruppe Treptow-Köpenick
DTSTAMP:20260421T022201Z
DTSTART:20260512T170000Z
DTEND:20260512T190000Z
URL:https://fahrradtermine-berlin.de/event/offenes-adfc-treffen-fur-austaus
	ch-absprachen-und-vernetzung-stadtteilgruppe-treptow-kopenick-3
GEO:52.4435;13.5023
LOCATION:Rathaus Johannisthal - Sterndamm 102\, 12487 Berlin
STATUS:CONFIRMED
CATEGORIES:Absprachen,ADFC,Austausch,Stadtteilgruppe,Treptow-Köpenick,Verne
	tzung
END:VEVENT
END:VCALENDAR
