BEGIN:VCALENDAR
VERSION:2.0
CALSCALE:GREGORIAN
PRODID:adamgibbons/ics
METHOD:PUBLISH
X-PUBLISHED-TTL:PT1H
BEGIN:VEVENT
UID:471@fahrradtermine-berlin.de
SUMMARY:Treffen Netzwerk Fahrradfreundliches Neukölln (NFN)
DTSTAMP:20260421T032219Z
DTSTART:20260430T173000Z
URL:https://fahrradtermine-berlin.de/event/treffen-netzwerk-fahrradfreundli
	ches-neukolln-nfn-1
GEO:52.4812;13.4354
LOCATION:folgt - Neukölln\, Berlin\, Deutschland
STATUS:CONFIRMED
CATEGORIES:Changing Cities,Netzwerk Fahrradfreundliches Neukölln,Netzwerk/S
	tadtteilgrupppentreffen,Stadtteilgruppe,Vernetzung
END:VEVENT
BEGIN:VEVENT
UID:480@fahrradtermine-berlin.de
SUMMARY:Offenes ADFC-Treffen für Austausch\, Absprachen und Vernetzung Stad
	tteilgruppe Treptow-Köpenick
DTSTAMP:20260421T032219Z
DTSTART:20260512T170000Z
DTEND:20260512T190000Z
URL:https://fahrradtermine-berlin.de/event/offenes-adfc-treffen-fur-austaus
	ch-absprachen-und-vernetzung-stadtteilgruppe-treptow-kopenick-3
GEO:52.4435;13.5023
LOCATION:Rathaus Johannisthal - Sterndamm 102\, 12487 Berlin
STATUS:CONFIRMED
CATEGORIES:Absprachen,ADFC,Austausch,Stadtteilgruppe,Treptow-Köpenick,Verne
	tzung
END:VEVENT
BEGIN:VEVENT
UID:497@fahrradtermine-berlin.de
SUMMARY:Netzwerktreffen Fahrradfreundliches Friedrichshain-Kreuzberg (NFFK)
DTSTAMP:20260421T032219Z
DTSTART:20260520T170000Z
DTEND:20260520T190000Z
URL:https://fahrradtermine-berlin.de/event/netzwerktreffen-fahrradfreundlic
	hes-friedrichshain-kreuzberg-nffk-11
GEO:52.5012;13.423
LOCATION:Kiezbüro Naunynstraße 73 - 73\, Naunynstraße\, Luisenstadt\, Kreuz
	berg\, Friedrichshain-Kreuzberg\, Berlin\, 10997\, Deutschland
STATUS:CONFIRMED
CATEGORIES:Changing Cities,Friedrichshain,Friedrichshain-Kreuzberg,Kreuzber
	g,Netzwerk/Stadtteilgrupppentreffen,Stadtteilgruppe,Vernetzung
END:VEVENT
END:VCALENDAR
