BEGIN:VCALENDAR
VERSION:2.0
CALSCALE:GREGORIAN
PRODID:adamgibbons/ics
METHOD:PUBLISH
X-PUBLISHED-TTL:PT1H
BEGIN:VEVENT
UID:446@fahrradtermine-berlin.de
SUMMARY:Treffen der ADFC-Stadtteilgruppe Wuhletal
DTSTAMP:20260424T001710Z
DTSTART:20260428T160000Z
DTEND:20260428T180000Z
URL:https://fahrradtermine-berlin.de/event/treffen-der-adfc-stadtteilgruppe
	-wuhletal-10
GEO:52.5277;13.5855
LOCATION:Stadtteilzentrum Kompass - Kummerower Ring 42\, 12619 Berlin
STATUS:CONFIRMED
CATEGORIES:Marzahn-Hellersdorf,Netzwerk/Stadtteilgrupppentreffen,Stadtteilg
	ruppe,Wuhletal
END:VEVENT
END:VCALENDAR
